BEGIN:VCALENDAR
VERSION:2.0
PRODID:-//Beach Metro Community News - ECPv6.15.12.1//NONSGML v1.0//EN
CALSCALE:GREGORIAN
METHOD:PUBLISH
X-WR-CALNAME:Beach Metro Community News
X-ORIGINAL-URL:https://beachmetro.com
X-WR-CALDESC:Events for Beach Metro Community News
REFRESH-INTERVAL;VALUE=DURATION:PT1H
X-Robots-Tag:noindex
X-PUBLISHED-TTL:PT1H
BEGIN:VTIMEZONE
TZID:America/Toronto
BEGIN:DAYLIGHT
TZOFFSETFROM:-0500
TZOFFSETTO:-0400
TZNAME:EDT
DTSTART:20250309T070000
END:DAYLIGHT
BEGIN:STANDARD
TZOFFSETFROM:-0400
TZOFFSETTO:-0500
TZNAME:EST
DTSTART:20251102T060000
END:STANDARD
BEGIN:DAYLIGHT
TZOFFSETFROM:-0500
TZOFFSETTO:-0400
TZNAME:EDT
DTSTART:20260308T070000
END:DAYLIGHT
BEGIN:STANDARD
TZOFFSETFROM:-0400
TZOFFSETTO:-0500
TZNAME:EST
DTSTART:20261101T060000
END:STANDARD
BEGIN:DAYLIGHT
TZOFFSETFROM:-0500
TZOFFSETTO:-0400
TZNAME:EDT
DTSTART:20270314T070000
END:DAYLIGHT
BEGIN:STANDARD
TZOFFSETFROM:-0400
TZOFFSETTO:-0500
TZNAME:EST
DTSTART:20271107T060000
END:STANDARD
END:VTIMEZONE
BEGIN:VEVENT
DTSTART;TZID=America/Toronto:20260422T110000
DTEND;TZID=America/Toronto:20260422T110000
DTSTAMP:20260419T132736
CREATED:20260417T134842Z
LAST-MODIFIED:20260417T134842Z
UID:49135-1776855600-1776855600@beachmetro.com
SUMMARY:Beach Interfaith Outreach Fellowship Lunch
DESCRIPTION:Lunch for adults in the community. Format may vary.
URL:https://beachmetro.com/event/beach-interfaith-outreach-fellowship-lunch-245/
LOCATION:Beach Hebrew Institute\, 109 Kenilworth Avenue
END:VEVENT
BEGIN:VEVENT
DTSTART;TZID=America/Toronto:20260422T130000
DTEND;TZID=America/Toronto:20260422T150000
DTSTAMP:20260419T132736
CREATED:20260417T151143Z
LAST-MODIFIED:20260417T151221Z
UID:49156-1776862800-1776870000@beachmetro.com
SUMMARY:Coffee Outreach
DESCRIPTION:Coffee Outreach is held every Wednesday\, an opportunity for people in the neighbourhood to gather for coffee\, snacks and fellowship. A full lunch is provided every 2nd Wednesday of the month.
URL:https://beachmetro.com/event/coffee-outreach-8/
LOCATION:Beaches Presbyterian Church\, 65 Glen Manor Drive\, Toronto\, M4E 3V3
END:VEVENT
BEGIN:VEVENT
DTSTART;TZID=America/Toronto:20260422T133000
DTEND;TZID=America/Toronto:20260422T133000
DTSTAMP:20260419T132736
CREATED:20260407T153225Z
LAST-MODIFIED:20260407T153225Z
UID:48816-1776864600-1776864600@beachmetro.com
SUMMARY:A Senior Moment Luncheon
DESCRIPTION:R.S.V.P. Colleen at 647-829-8042
URL:https://beachmetro.com/event/a-senior-moment-luncheon-13/
LOCATION:The Stone Lion\, 1958 Queen St. E.\, Toronto
END:VEVENT
BEGIN:VEVENT
DTSTART;TZID=America/Toronto:20260422T190000
DTEND;TZID=America/Toronto:20260422T203000
DTSTAMP:20260419T132736
CREATED:20260323T133954Z
LAST-MODIFIED:20260323T133954Z
UID:48393-1776884400-1776889800@beachmetro.com
SUMMARY:The Beach & East Toronto Historical Society
DESCRIPTION:The Beach & East Toronto Historical Society presents historian and award-winning author Greig Stewart “Shutting Down the National Dream: A.V. Roe and the Tragedy of the Avro Arrow”. Admission is free. All are welcome. Info: www.tbeths.com
URL:https://beachmetro.com/event/the-beach-east-toronto-historical-society/
LOCATION:Beaches Sandbox\, 2181 Queen St. E.\, Canada
ATTACH;FMTTYPE=image/jpeg:https://d28bcn7yu97icd.cloudfront.net/wp-content/uploads/2026/03/23093930/97.-Greig-Stewart-Poster-April.-2026--scaled.jpg
END:VEVENT
BEGIN:VEVENT
DTSTART;TZID=America/Toronto:20260422T191500
DTEND;TZID=America/Toronto:20260422T191500
DTSTAMP:20260419T132736
CREATED:20260417T135701Z
LAST-MODIFIED:20260417T135701Z
UID:49145-1776885300-1776885300@beachmetro.com
SUMMARY:Al-Anon
DESCRIPTION:Al-Anon meets Wednesdays at Community Centre 55. Alateen members are welcome to attend. Info: 416-691-1113
URL:https://beachmetro.com/event/al-anon-58/
LOCATION:Centre 55\, 97 Main St.\, Toronto
END:VEVENT
BEGIN:VEVENT
DTSTART;TZID=America/Toronto:20260423T100000
DTEND;TZID=America/Toronto:20260423T113000
DTSTAMP:20260419T132736
CREATED:20260417T150856Z
LAST-MODIFIED:20260417T150856Z
UID:49154-1776938400-1776943800@beachmetro.com
SUMMARY:Busy Bees Drop-in Playgroup
DESCRIPTION:Busy Bees drop-in playgroup for ages 0-3 and caregivers features stories and crafts. 
URL:https://beachmetro.com/event/busy-bees-drop-in-playgroup-15/
LOCATION:St. Aidan’s Anglican Church\, 2423 Queen St. E.\, Toronto\, Canada
END:VEVENT
BEGIN:VEVENT
DTSTART;TZID=America/Toronto:20260423T110000
DTEND;TZID=America/Toronto:20260423T110000
DTSTAMP:20260419T132736
CREATED:20260417T135000Z
LAST-MODIFIED:20260417T135000Z
UID:49137-1776942000-1776942000@beachmetro.com
SUMMARY:Beach Interfaith Outreach Fellowship Lunch
DESCRIPTION:Lunch for adults in the community. Format may vary.
URL:https://beachmetro.com/event/beach-interfaith-outreach-fellowship-lunch-246/
LOCATION:Beach United Church\, 140 Wineva Ave.\, Toronto
END:VEVENT
BEGIN:VEVENT
DTSTART;TZID=America/Toronto:20260423T130000
DTEND;TZID=America/Toronto:20260423T143000
DTSTAMP:20260419T132736
CREATED:20260220T205327Z
LAST-MODIFIED:20260319T190806Z
UID:47459-1776949200-1776954600@beachmetro.com
SUMMARY:NatureTO: Trees Around the Branch Tour
DESCRIPTION:Join the City of Toronto Urban Forestry staff to explore the natural world on a local neighbourhood tour in the Danforth/Coxwell area. Learn how to recognize different species and acquire fun facts about their cultural and ecological importance. \nThe tour will start and end at the Danforth/Coxwell Library\, Main Floor\, and will be guided by the City of Toronto Urban Forestry staff. There may be uneven\, unpaved surfaces along the route. Please dress and prepare accordingly for this outdoor program (e.g. gloves/mittens\, hats\, sunscreen\, water\, comfortable shoes). This program takes place rain or shine. In the event of severe inclement weather\, registrants will be notified of an alternative date. Children under 12 must be accompanied by a parent/caregiver. \nRegister for the event online. For assistance\, visit the branch or call 416-393-7783.
URL:https://beachmetro.com/event/natureto-trees-around-the-branch-tour/
LOCATION:Danforth Coxwell Library\, 1675 Danforth Avenue\, Toronto\, M4C 5P2
ORGANIZER;CN="Danforth Coxwell Branch%2C Toronto Public Library":MAILTO:dastaff@tpl.ca
END:VEVENT
BEGIN:VEVENT
DTSTART;TZID=America/Toronto:20260423T150000
DTEND;TZID=America/Toronto:20260423T160000
DTSTAMP:20260419T132736
CREATED:20260401T181330Z
LAST-MODIFIED:20260407T163235Z
UID:48636-1776956400-1776960000@beachmetro.com
SUMMARY:YMCA Spring Talks
DESCRIPTION:Health: Active Aging. Explore how adults can thrive physically\, mentally and socially into later life. Speakers to be confirmed.
URL:https://beachmetro.com/event/ymca-spring-talks-3/
LOCATION:The Steve & Sally Stavro Family YMCA\, 907 Kingston Rd\, Toronto\, M4E 1S4
END:VEVENT
BEGIN:VEVENT
DTSTART;TZID=America/Toronto:20260423T180000
DTEND;TZID=America/Toronto:20260423T200000
DTSTAMP:20260419T132736
CREATED:20260402T194808Z
LAST-MODIFIED:20260407T163512Z
UID:48688-1776967200-1776974400@beachmetro.com
SUMMARY:Introduction to 3D Printing
DESCRIPTION:Learn how 3D printers work and how you can print at the Toronto Public Library’s Digital Innovation Hubs. This class includes hands-on instruction with Prusa Slicer\, the software used to prepare your 3D object file for printing on a Prusa MK3S+ 3D printer. \nThis class is for those who are interested in learning more about 3D printing and how to use the Prusa software. Computers will be provided. \nRegistration opens April 9 at 9:00 am. Register online at https://tpl.ca/locations/DA/\, in person at the front desk\, or by calling the branch at 416-393-7783.
URL:https://beachmetro.com/event/introduction-to-3d-printing/
LOCATION:Danforth Coxwell Library\, 1675 Danforth Avenue\, Toronto\, M4C 5P2
ORGANIZER;CN="Danforth Coxwell Branch%2C Toronto Public Library":MAILTO:dastaff@tpl.ca
END:VEVENT
BEGIN:VEVENT
DTSTART;TZID=America/Toronto:20260423T193000
DTEND;TZID=America/Toronto:20260423T201500
DTSTAMP:20260419T132736
CREATED:20260417T151628Z
LAST-MODIFIED:20260417T151628Z
UID:49159-1776972600-1776975300@beachmetro.com
SUMMARY:Group Meditation
DESCRIPTION:All ages and stages of experience welcome! Type of meditation will vary based on the instructor. Email: office@staidansinthebeach.com
URL:https://beachmetro.com/event/group-meditation-9/
LOCATION:St. Aidan’s Anglican Church\, 2423 Queen St. E.\, Toronto\, Canada
END:VEVENT
BEGIN:VEVENT
DTSTART;TZID=America/Toronto:20260424T110000
DTEND;TZID=America/Toronto:20260424T110000
DTSTAMP:20260419T132736
CREATED:20260417T135108Z
LAST-MODIFIED:20260417T135108Z
UID:49139-1777028400-1777028400@beachmetro.com
SUMMARY:Beach Interfaith Outreach Fellowship Lunch
DESCRIPTION:Lunch for adults in the community. Format may vary.
URL:https://beachmetro.com/event/beach-interfaith-outreach-fellowship-lunch-247/
LOCATION:Kingston Road United Church\, 975 Kingston Rd
END:VEVENT
BEGIN:VEVENT
DTSTART;TZID=America/Toronto:20260425T100000
DTEND;TZID=America/Toronto:20260425T140000
DTSTAMP:20260419T132736
CREATED:20260325T013244Z
LAST-MODIFIED:20260325T013244Z
UID:48479-1777111200-1777125600@beachmetro.com
SUMMARY:St. Clair O'Connor Community Yard Sale
DESCRIPTION:Clothing\, household items\, books & toys\, small furniture\, and more. All proceeds support community projects approved by the Residents Council for our non-profit community. For further info (to donate or attend)\, please contact the SCOC receptionist at 416-757-8757.
URL:https://beachmetro.com/event/st-clair-oconnor-community-yard-sale/
LOCATION:St. Clair O’Connor Community\, 2701 St. Clair Ave. E.\, Toronto
END:VEVENT
BEGIN:VEVENT
DTSTART;TZID=America/Toronto:20260425T110000
DTEND;TZID=America/Toronto:20260425T130000
DTSTAMP:20260419T132736
CREATED:20260113T152854Z
LAST-MODIFIED:20260323T130333Z
UID:46418-1777114800-1777122000@beachmetro.com
SUMMARY:I Love to SING!
DESCRIPTION:Kids from 8 to 16 are welcome to this free program that is fun\, empowering\, and great music instruction from some of top singing teachers in Canada. Come once or for every session – no experience or commitment necessary.
URL:https://beachmetro.com/event/i-love-to-sing-13/
LOCATION:Centre 55\, 97 Main St.\, Toronto
ATTACH;FMTTYPE=image/jpeg:https://d28bcn7yu97icd.cloudfront.net/wp-content/uploads/2026/01/13102857/Latoya-and-kids-in-November.jpg
ORGANIZER;CN="SING! The Toronto International Vocal Arts Festival":MAILTO:info@singtoronto.com
END:VEVENT
BEGIN:VEVENT
DTSTART;TZID=America/Toronto:20260425T193000
DTEND;TZID=America/Toronto:20260425T193000
DTSTAMP:20260419T132736
CREATED:20260318T153723Z
LAST-MODIFIED:20260318T153723Z
UID:48255-1777145400-1777145400@beachmetro.com
SUMMARY:Cantemus Singers
DESCRIPTION:Cantemus Singers\, conducted by Michael Erdman\, present “Good Queen Bess”\, a concert of Elizabethan music for Easter and Springtime featuring works by Tallis\, Byrd\, Morley and Tomkins. A performance will also be held at Church of the Holy Trinity\, Eaton Centre\, on Sunday April 26 at 3 p.m. Tickets at the door (cash)\, or via Eventbrite at www.cantemus.ca. General Admission $35 / Kids under 12 free. Info/reservations: 416-578-6602
URL:https://beachmetro.com/event/cantemus-singers/
LOCATION:St. Aidan’s Anglican Church\, 2423 Queen St. E.\, Toronto\, Canada
ATTACH;FMTTYPE=image/jpeg:https://d28bcn7yu97icd.cloudfront.net/wp-content/uploads/2026/03/18113650/Cantemus-Singers-Ad-fixed.jpg
END:VEVENT
BEGIN:VEVENT
DTSTART;TZID=America/Toronto:20260425T193000
DTEND;TZID=America/Toronto:20260425T193000
DTSTAMP:20260419T132736
CREATED:20260319T133804Z
LAST-MODIFIED:20260319T133804Z
UID:48286-1777145400-1777145400@beachmetro.com
SUMMARY:Once Upon a Spring Night
DESCRIPTION:An interactive evening of poetry and music presented by Beaches author and composer Mark Battenberg\, featuring a live reading and symposium of his transcending poetic work A leaf in the Wind\, with musical meditations by special guest\, Shakuhachi Flute Master Debbie Danbrook. You could win a copy of the book A Leaf in the Wind signed by the author. $20 at the door or pay what you can.
URL:https://beachmetro.com/event/once-upon-a-spring-night-2/
LOCATION:Danforth Mennonite Church\, 2174 Danforth Ave.\, Toronto
END:VEVENT
BEGIN:VEVENT
DTSTART;TZID=America/Toronto:20260426T100000
DTEND;TZID=America/Toronto:20260426T120000
DTSTAMP:20260419T132736
CREATED:20260401T202919Z
LAST-MODIFIED:20260407T163017Z
UID:48657-1777197600-1777204800@beachmetro.com
SUMMARY:Glen Stewart Ravine Annual Spring Cleanup
DESCRIPTION:Meet at the Beech Avenue Ravine Entrance\, just south of Kingston Road. Get together with neighbours to clean up garbage in the ravine. Please bring gloves and dress to get dirty (rubber boots are a good idea too!). We’ll supply the bags and treats. Thank you to Courage Foods and The Black Canary for their delicious donations. We also welcome guests from Cliffcrest Butterflyway and PollinatorGarden.ca who will be on site to answer questions.
URL:https://beachmetro.com/event/glen-stewart-ravine-annual-spring-cleanup/
LOCATION:Glen Stewart Ravine\, 338 Beech Avenue\, Toronto
ATTACH;FMTTYPE=image/png:https://d28bcn7yu97icd.cloudfront.net/wp-content/uploads/2026/04/01162922/2026-Ravine-Clean-Up-Spring-Poster.png
END:VEVENT
BEGIN:VEVENT
DTSTART;TZID=America/Toronto:20260426T113000
DTEND;TZID=America/Toronto:20260426T140000
DTSTAMP:20260419T132736
CREATED:20260407T155546Z
LAST-MODIFIED:20260407T162316Z
UID:48828-1777203000-1777212000@beachmetro.com
SUMMARY:Young People's Concert and Instrument Petting Zoo
DESCRIPTION:Join us for a joyful mini concert presented by excellent musicians from the Toronto Symphony Youth Orchestra. Right after each concert young people are encouraged to try out instruments – in this concert Clarinets and Cellos. Great fun for the whole family and music lovers of all ages! Any donations are welcome.
URL:https://beachmetro.com/event/young-peoples-concert-and-instrument-petting-zoo/
LOCATION:Kingston Road United Church\, 975 Kingston Rd
ATTACH;FMTTYPE=image/jpeg:https://d28bcn7yu97icd.cloudfront.net/wp-content/uploads/2026/04/07115549/Image31.jpg
ORGANIZER;CN="Kingston Road United Church":MAILTO:kruc.info@gmail.com
END:VEVENT
BEGIN:VEVENT
DTSTART;TZID=America/Toronto:20260428T110000
DTEND;TZID=America/Toronto:20260428T110000
DTSTAMP:20260419T132736
CREATED:20260417T181109Z
LAST-MODIFIED:20260417T181109Z
UID:49181-1777374000-1777374000@beachmetro.com
SUMMARY:Beach Interfaith Outreach Fellowship Lunch
DESCRIPTION:Lunch for adults in the community. Format may vary
URL:https://beachmetro.com/event/beach-interfaith-outreach-fellowship-lunch-248/
LOCATION:St. Nicholas\, Birch Cliff\, 1512 Kingston Rd.\, Toronto
END:VEVENT
BEGIN:VEVENT
DTSTART;TZID=America/Toronto:20260428T190000
DTEND;TZID=America/Toronto:20260428T200000
DTSTAMP:20260419T132736
CREATED:20260303T184152Z
LAST-MODIFIED:20260323T130025Z
UID:47746-1777402800-1777406400@beachmetro.com
SUMMARY:Scouts Canada Open House
DESCRIPTION:Scouts Canada is excited to announce that we are opening new Sections to help reduce the waitlist and provide more Scouting opportunities for families and youth aged 5 to 14!\nTo introduce these new Sections\, we’ll be hosting open houses where you can:\nLearn more about our program and opportunities to share Scouting experiences with your child(ren)\nMeet our team\nInvite your child(ren) to participate in fun Scouting activities! \nThese activities will give your child a taste of what Scouting is all about\, and it’s a great chance for parents to connect with us and ask any questions.\nA parent\, guardian\, or family member must stay for the entire duration of the activities.\nOpen House Details: See attached image for Dates\, Times\, and Location\, \nHelp Us Bring Scouting to Life:\nTo officially launch this new Section\, we need at least 4 volunteers per Section. If you’re interested in getting involved\, the open house is the perfect opportunity to learn more.\nVolunteering with Scouts Canada is flexible and rewarding—and you don’t need any prior experience! Here’s what you can look forward to:\nSharing memorable experiences with your child\nBeing a part of a supportive community of parents and volunteers\nDeveloping new skills and sharing your expertise\nMaking a positive impact in your local community\nHaving fun and enjoying new outdoor adventures! \nWe would like to invite you to come out\, learn more and see if Scouting is a good fit for you and your family.\nPlease RSVP using the QR code on the attached image. if you plan to attend please feel free reach out if you have any questions about the Scouting program or volunteering. We look forward to seeing you and sharing the fun\, learning\, and adventure of Scouting!
URL:https://beachmetro.com/event/scouts-canada-open-house-5/
LOCATION:St. John Catholic Curch\, 780 Kingston Rd.\, Toronto\, 780 Kingston Rd.
ATTACH;FMTTYPE=image/png:https://d28bcn7yu97icd.cloudfront.net/wp-content/uploads/2026/03/03134156/Open-House-Poster-146TO_fix3.png
ORGANIZER;CN="Scouts Canada - 146 Toronto":MAILTO:brayden.dueck@scouts.ca
END:VEVENT
BEGIN:VEVENT
DTSTART;TZID=America/Toronto:20260429T140000
DTEND;TZID=America/Toronto:20260429T160000
DTSTAMP:20260419T132736
CREATED:20260410T152334Z
LAST-MODIFIED:20260410T152334Z
UID:48971-1777471200-1777478400@beachmetro.com
SUMMARY:Everyone Has A Story To Tell
DESCRIPTION:Everyone Has A Story To Tell\, an invitation to a small writing workshop. Enjoy a coffee and write some memories with writer Patricia Brean. Enrollment is free. Please email pat_brean@hotmail.com to sign up.
URL:https://beachmetro.com/event/everyone-has-a-story-to-tell-3/
LOCATION:Judy’s Beach Café\, 2188 Queen St. E.\, Toronto\, ON
END:VEVENT
BEGIN:VEVENT
DTSTART;TZID=America/Toronto:20260430T150000
DTEND;TZID=America/Toronto:20260430T160000
DTSTAMP:20260419T132736
CREATED:20260401T181819Z
LAST-MODIFIED:20260407T163320Z
UID:48641-1777561200-1777564800@beachmetro.com
SUMMARY:YMCA Spring Talks
DESCRIPTION:The Beaches: The Creation of a Unique Toronto Neighborhood. The Evolution of the 19th Century lakeside cottages into a vibrant community . With Richard White\, Beach Historian and Author
URL:https://beachmetro.com/event/ymca-spring-talks-4/
LOCATION:The Steve & Sally Stavro Family YMCA\, 907 Kingston Rd\, Toronto\, M4E 1S4
END:VEVENT
BEGIN:VEVENT
DTSTART;TZID=America/Toronto:20260502T100000
DTEND;TZID=America/Toronto:20260502T150000
DTSTAMP:20260419T132736
CREATED:20260414T145529Z
LAST-MODIFIED:20260414T145816Z
UID:49033-1777716000-1777734000@beachmetro.com
SUMMARY:Spring Fling Craft and Foodie Affair
DESCRIPTION:Handmade crafts\, foodie treats\, door and grand prizes\, gift basket raffle draw\, book sale\, and surprise gift bags. All proceeds support The Fred Victor.
URL:https://beachmetro.com/event/spring-fling-craft-and-foodie-affair/
LOCATION:RCL Branch 345\, 81 Peard Rd.\, Toronto
ATTACH;FMTTYPE=image/jpeg:https://d28bcn7yu97icd.cloudfront.net/wp-content/uploads/2026/04/14105754/SpringFling-copy.jpg
END:VEVENT
BEGIN:VEVENT
DTSTART;TZID=America/Toronto:20260503T120000
DTEND;TZID=America/Toronto:20260503T140000
DTSTAMP:20260419T132736
CREATED:20260413T192052Z
LAST-MODIFIED:20260414T144338Z
UID:49014-1777809600-1777816800@beachmetro.com
SUMMARY:Kingston Road United Instrument Petting Zoo Flute\, Bassoon\, & Violin
DESCRIPTION:Come and hear an excellent concert at Kingston Road United Church\, then explore hands on the properties of three instruments and learn all about them. Great for the whole family! Suggested donation $ 10.00
URL:https://beachmetro.com/event/kingston-road-united-instrument-petting-zoo-flute-bassoon-violin/
LOCATION:Kingston Road United Church\, 975 Kingston Rd
ATTACH;FMTTYPE=image/jpeg:https://d28bcn7yu97icd.cloudfront.net/wp-content/uploads/2026/04/13152055/Image1May-03.jpg
ORGANIZER;CN="Kingston Road United Church":MAILTO:kruc.info@gmail.com
END:VEVENT
BEGIN:VEVENT
DTSTART;TZID=America/Toronto:20260507T140000
DTEND;TZID=America/Toronto:20260508T193000
DTSTAMP:20260419T132736
CREATED:20260320T174250Z
LAST-MODIFIED:20260407T211346Z
UID:48359-1778162400-1778268600@beachmetro.com
SUMMARY:Serenata Singers - 50th Golden Anniversary Concerts
DESCRIPTION:Celebrate 50 years of harmony with “The Maple Leaf Forever”\, a sparkling program of choral gems by Canadian composers.
URL:https://beachmetro.com/event/serenata-singers-50th-golden-anniversary-concerts/
LOCATION:Scarborough Bluffs United Church\, 3739 Kingston Rd.\, Toronto
ORGANIZER;CN="Charlotte Judd":MAILTO:Charlotte.judd55@gmail.com
END:VEVENT
BEGIN:VEVENT
DTSTART;TZID=America/Toronto:20260507T190000
DTEND;TZID=America/Toronto:20260507T213000
DTSTAMP:20260419T132736
CREATED:20260417T152126Z
LAST-MODIFIED:20260417T152126Z
UID:49164-1778180400-1778189400@beachmetro.com
SUMMARY:Beach Photo Club
DESCRIPTION:Are you interested in photography? We invite all shutterbugs to check out our local photo club. We offer a range of activities including guest speakers\, mentorship\, opportunities to share your work\, photo excursions\, competitions\, practical seminars and more! We meet the 1st and 3rd Thursday of each month from September to June. Info: beachphotoclub.com or email beachphotoclub@gmail.com
URL:https://beachmetro.com/event/beach-photo-club-27/
LOCATION:Beach United Church\, 140 Wineva Ave.\, Toronto
END:VEVENT
BEGIN:VEVENT
DTSTART;TZID=America/Toronto:20260509T110000
DTEND;TZID=America/Toronto:20260509T130000
DTSTAMP:20260419T132736
CREATED:20260113T153129Z
LAST-MODIFIED:20260410T151204Z
UID:46421-1778324400-1778331600@beachmetro.com
SUMMARY:I Love to SING!
DESCRIPTION:Kids from 8 to 16 are welcome to this free program that is fun\, empowering\, and great music instruction from some of top singing teachers in Canada. Come once or for every session – no experience or commitment necessary.
URL:https://beachmetro.com/event/i-love-to-sing-14/
LOCATION:Centre 55\, 97 Main St.\, Toronto
ATTACH;FMTTYPE=image/jpeg:https://d28bcn7yu97icd.cloudfront.net/wp-content/uploads/2026/01/13103132/Latoya-and-kids-in-November1.jpg
ORGANIZER;CN="SING! The Toronto International Vocal Arts Festival":MAILTO:info@singtoronto.com
END:VEVENT
BEGIN:VEVENT
DTSTART;TZID=America/Toronto:20260509T110000
DTEND;TZID=America/Toronto:20260509T163000
DTSTAMP:20260419T132736
CREATED:20260407T153758Z
LAST-MODIFIED:20260407T153848Z
UID:48820-1778324400-1778344200@beachmetro.com
SUMMARY:Beach Bridge Pub Crawl
DESCRIPTION:Friendly duplicate bridge\, rotating through three pubs on Queen St. E. in the Beach. Info: 416-987-1019 or https://beachbridgepubcrawl.wixsite.com/bbpc
URL:https://beachmetro.com/event/bridge-pub-crawl-2/
LOCATION:ON
END:VEVENT
BEGIN:VEVENT
DTSTART;TZID=America/Toronto:20260510T090000
DTEND;TZID=America/Toronto:20260510T140000
DTSTAMP:20260419T132736
CREATED:20260417T174405Z
LAST-MODIFIED:20260417T174405Z
UID:49177-1778403600-1778421600@beachmetro.com
SUMMARY:Leslieville Farmers' Market - Greenwood Park
DESCRIPTION:
URL:https://beachmetro.com/event/leslieville-farmers-market-greenwood-park/
LOCATION:Greenwood Park\, 150 Greenwood Ave.\, Toronto
END:VEVENT
BEGIN:VEVENT
DTSTART;TZID=America/Toronto:20260512T080000
DTEND;TZID=America/Toronto:20260512T140000
DTSTAMP:20260419T132736
CREATED:20260417T175253Z
LAST-MODIFIED:20260417T175253Z
UID:49179-1778572800-1778594400@beachmetro.com
SUMMARY:East York Farmers' Market
DESCRIPTION:The 2026 season runs every Tuesday\, 8 a.m.-2 p.m.\, from May 12 to October 27.
URL:https://beachmetro.com/event/east-york-farmers-market-13/
LOCATION:East York Civic Centre\, 850 Coxwell Ave.\, Toronto
END:VEVENT
END:VCALENDAR