BEGIN:VCALENDAR
VERSION:2.0
PRODID:-//Beach Metro Community News - ECPv6.15.12.1//NONSGML v1.0//EN
CALSCALE:GREGORIAN
METHOD:PUBLISH
X-WR-CALNAME:Beach Metro Community News
X-ORIGINAL-URL:https://beachmetro.com
X-WR-CALDESC:Events for Beach Metro Community News
REFRESH-INTERVAL;VALUE=DURATION:PT1H
X-Robots-Tag:noindex
X-PUBLISHED-TTL:PT1H
BEGIN:VTIMEZONE
TZID:America/Toronto
BEGIN:DAYLIGHT
TZOFFSETFROM:-0500
TZOFFSETTO:-0400
TZNAME:EDT
DTSTART:20240310T070000
END:DAYLIGHT
BEGIN:STANDARD
TZOFFSETFROM:-0400
TZOFFSETTO:-0500
TZNAME:EST
DTSTART:20241103T060000
END:STANDARD
BEGIN:DAYLIGHT
TZOFFSETFROM:-0500
TZOFFSETTO:-0400
TZNAME:EDT
DTSTART:20250309T070000
END:DAYLIGHT
BEGIN:STANDARD
TZOFFSETFROM:-0400
TZOFFSETTO:-0500
TZNAME:EST
DTSTART:20251102T060000
END:STANDARD
BEGIN:DAYLIGHT
TZOFFSETFROM:-0500
TZOFFSETTO:-0400
TZNAME:EDT
DTSTART:20260308T070000
END:DAYLIGHT
BEGIN:STANDARD
TZOFFSETFROM:-0400
TZOFFSETTO:-0500
TZNAME:EST
DTSTART:20261101T060000
END:STANDARD
BEGIN:DAYLIGHT
TZOFFSETFROM:-0500
TZOFFSETTO:-0400
TZNAME:EDT
DTSTART:20270314T070000
END:DAYLIGHT
BEGIN:STANDARD
TZOFFSETFROM:-0400
TZOFFSETTO:-0500
TZNAME:EST
DTSTART:20271107T060000
END:STANDARD
END:VTIMEZONE
BEGIN:VEVENT
DTSTART;TZID=America/Toronto:20251221T140000
DTEND;TZID=America/Toronto:20251221T143000
DTSTAMP:20260423T124820
CREATED:20251210T175011Z
LAST-MODIFIED:20251210T175011Z
UID:45799-1766325600-1766327400@beachmetro.com
SUMMARY:Sunday Family Time
DESCRIPTION:Now added to Sundays! Enjoy stories\, songs\, and rhymes. For ages 0-5 and their parents/caregivers. Note: There will be no Family Time on Dec 28. Info: 416-393-7717
URL:https://beachmetro.com/event/sunday-family-time/
LOCATION:Gerrard Ashdale Library\, 1432 Gerrard St. E.\, Toronto
END:VEVENT
BEGIN:VEVENT
DTSTART;TZID=America/Toronto:20251221T140000
DTEND;TZID=America/Toronto:20251221T160000
DTSTAMP:20260423T124820
CREATED:20251121T175539Z
LAST-MODIFIED:20251121T220433Z
UID:45352-1766325600-1766332800@beachmetro.com
SUMMARY:Community Carol Sing-Along!
DESCRIPTION:BE SURE NOT TO MISS!… \nA Community Carol Sing-Along\nat Kingston Road United Church\,\n975 Kingston Road\, on Sunday\nDecember 21st at 2 PM. \nYummy seasonal home baked goods and\ngreat crafts will be on sale from 1:30\nbefore the event. \nCome and enjoy some festive Christmas fun!\nAll are welcome!
URL:https://beachmetro.com/event/community-carol-sing-along/
LOCATION:Kingston Road United Church\, 975 Kingston Rd
ATTACH;FMTTYPE=image/jpeg:https://d28bcn7yu97icd.cloudfront.net/wp-content/uploads/2025/11/21125542/Image1.jpg
ORGANIZER;CN="Kingston Road United Church":MAILTO:kruc.info@gmail.com
END:VEVENT
BEGIN:VEVENT
DTSTART;TZID=America/Toronto:20251221T183000
DTEND;TZID=America/Toronto:20251221T193000
DTSTAMP:20260423T124820
CREATED:20251121T203409Z
LAST-MODIFIED:20251121T220526Z
UID:45365-1766341800-1766345400@beachmetro.com
SUMMARY:Candles & Carols at the Centre
DESCRIPTION:In a season that can feel hurried and crowded\, this candlelit service invites us to slow down and breathe in the hope of Christmas!
URL:https://beachmetro.com/event/candles-carols-at-the-centre/
LOCATION:Birchmount Community Centre\, 93 Birchmount Rd\, Scarborough\, M1N 3J7
ORGANIZER;CN="Fallingbrook Heights Baptist Church":MAILTO:pastorjen@churchatthecentre.com
END:VEVENT
BEGIN:VEVENT
DTSTART;TZID=America/Toronto:20251222T110000
DTEND;TZID=America/Toronto:20251222T110000
DTSTAMP:20260423T124820
CREATED:20251217T141154Z
LAST-MODIFIED:20251217T141154Z
UID:45945-1766401200-1766401200@beachmetro.com
SUMMARY:Beach Interfaith Outreach Fellowship Lunch
DESCRIPTION:Lunch for adults in the community. Format may vary.
URL:https://beachmetro.com/event/beach-interfaith-outreach-fellowship-lunch-167/
LOCATION:Corpus Christi Church\, 16 Lockwood Rd
END:VEVENT
BEGIN:VEVENT
DTSTART;TZID=America/Toronto:20251222T170000
DTEND;TZID=America/Toronto:20251222T190000
DTSTAMP:20260423T124820
CREATED:20251212T185848Z
LAST-MODIFIED:20251212T185848Z
UID:45870-1766422800-1766430000@beachmetro.com
SUMMARY:Welcome Winter!
DESCRIPTION:Welcome Winter! a community family event featuring hot chocolate\, stories and festive music by Melanie Peterson. Come for friendship\, fun and maybe even a flu shot.
URL:https://beachmetro.com/event/welcome-winter/
LOCATION:Henley Gardens Pharmacy\, 1089 Kingston Rd.\, Toronto
END:VEVENT
BEGIN:VEVENT
DTSTART;TZID=America/Toronto:20251223T110000
DTEND;TZID=America/Toronto:20251223T110000
DTSTAMP:20260423T124820
CREATED:20251217T141337Z
LAST-MODIFIED:20251217T141337Z
UID:45947-1766487600-1766487600@beachmetro.com
SUMMARY:Beach Interfaith Outreach Fellowship Lunch
DESCRIPTION:Lunch for adults in the community. Format may vary.
URL:https://beachmetro.com/event/beach-interfaith-outreach-fellowship-lunch-168/
LOCATION:St. Nicholas\, Birch Cliff\, 1512 Kingston Rd.\, Toronto
END:VEVENT
BEGIN:VEVENT
DTSTART;TZID=America/Toronto:20251224T110000
DTEND;TZID=America/Toronto:20251224T110000
DTSTAMP:20260423T124820
CREATED:20251217T142016Z
LAST-MODIFIED:20251217T142016Z
UID:45950-1766574000-1766574000@beachmetro.com
SUMMARY:Beach Interfaith Outreach Fellowship Lunch
DESCRIPTION:Lunch for adults in the community. Format may vary.
URL:https://beachmetro.com/event/beach-interfaith-outreach-fellowship-lunch-169/
LOCATION:Beach Hebrew Institute\, 109 Kenilworth Avenue
END:VEVENT
BEGIN:VEVENT
DTSTART;TZID=America/Toronto:20251225T110000
DTEND;TZID=America/Toronto:20251225T200000
DTSTAMP:20260423T124820
CREATED:20251217T140650Z
LAST-MODIFIED:20251217T140650Z
UID:45943-1766660400-1766692800@beachmetro.com
SUMMARY:Dave’s Annual Free Christmas Day Turkey Give-Away
DESCRIPTION:Free Smoked Turkey Sandwiches. No Purchase Required. Limit 1 per customer. In person only. While quantities last.
URL:https://beachmetro.com/event/daves-annual-free-christmas-day-turkey-give-away/
LOCATION:Fearless Meat\, 884 Kingston Road\, Toronto
END:VEVENT
BEGIN:VEVENT
DTSTART;TZID=America/Toronto:20251225T120000
DTEND;TZID=America/Toronto:20251225T120000
DTSTAMP:20260423T124820
CREATED:20251210T183103Z
LAST-MODIFIED:20251210T183347Z
UID:45814-1766664000-1766664000@beachmetro.com
SUMMARY:Christmas Day Lunch
DESCRIPTION:St. Aidan’s Anglican Church will be holding our Christmas Day turkey lunch in our church basement. Doors open at 12 noon. All are welcome.
URL:https://beachmetro.com/event/christmas-day-lunch/
LOCATION:St. Aidan’s Anglican Church\, 2423 Queen St. E.\, Toronto\, Canada
END:VEVENT
BEGIN:VEVENT
DTSTART;TZID=America/Toronto:20251229T110000
DTEND;TZID=America/Toronto:20251229T110000
DTSTAMP:20260423T124820
CREATED:20251217T142239Z
LAST-MODIFIED:20251217T142239Z
UID:45952-1767006000-1767006000@beachmetro.com
SUMMARY:Beach Interfaith Outreach Fellowship Lunch
DESCRIPTION:Lunch for adults in the community. Format may vary.
URL:https://beachmetro.com/event/beach-interfaith-outreach-fellowship-lunch-170/
LOCATION:Corpus Christi Church\, 16 Lockwood Rd
END:VEVENT
BEGIN:VEVENT
DTSTART;TZID=America/Toronto:20251230T110000
DTEND;TZID=America/Toronto:20251230T110000
DTSTAMP:20260423T124820
CREATED:20251217T142411Z
LAST-MODIFIED:20251217T142411Z
UID:45954-1767092400-1767092400@beachmetro.com
SUMMARY:Beach Interfaith Outreach Fellowship Lunch
DESCRIPTION:Lunch for adults in the community. Format may vary.
URL:https://beachmetro.com/event/beach-interfaith-outreach-fellowship-lunch-171/
LOCATION:St. Aidan’s Anglican Church\, 2423 Queen St. E.\, Toronto\, Canada
END:VEVENT
BEGIN:VEVENT
DTSTART;TZID=America/Toronto:20251231T110000
DTEND;TZID=America/Toronto:20251231T110000
DTSTAMP:20260423T124820
CREATED:20251228T162230Z
LAST-MODIFIED:20251228T162230Z
UID:46091-1767178800-1767178800@beachmetro.com
SUMMARY:Beach Interfaith Outreach Fellowship Lunch
DESCRIPTION:Lunch for adults in the community. Format may vary
URL:https://beachmetro.com/event/beach-interfaith-outreach-fellowship-lunch-173/
LOCATION:Beach Hebrew Institute\, 109 Kenilworth Avenue
END:VEVENT
BEGIN:VEVENT
DTSTART;TZID=America/Toronto:20260101T110000
DTEND;TZID=America/Toronto:20260101T110000
DTSTAMP:20260423T124820
CREATED:20251217T140358Z
LAST-MODIFIED:20251217T140358Z
UID:45941-1767265200-1767265200@beachmetro.com
SUMMARY:Hair of the Dog Run
DESCRIPTION:Funds raised go to support the amateur athletics programs at the Balmy Beach Canoe Club. Participants have the option of doing either a 3km walk or a 9km run. Info and registration: www.balmybeachcanoe.com/event-details/2026-hair-of-the-dog-run
URL:https://beachmetro.com/event/hair-of-the-dog-run/
LOCATION:Balmy Beach Club\, 360 Lake Front\, Toronto
END:VEVENT
BEGIN:VEVENT
DTSTART;TZID=America/Toronto:20260101T110000
DTEND;TZID=America/Toronto:20260101T110000
DTSTAMP:20260423T124820
CREATED:20251228T162427Z
LAST-MODIFIED:20251228T162427Z
UID:46093-1767265200-1767265200@beachmetro.com
SUMMARY:Beach Interfaith Outreach Fellowship Lunch
DESCRIPTION:Lunch for adults in the community. Format may vary.
URL:https://beachmetro.com/event/beach-interfaith-outreach-fellowship-lunch-174/
LOCATION:Beach United Church\, 140 Wineva Ave.\, Toronto
END:VEVENT
BEGIN:VEVENT
DTSTART;TZID=America/Toronto:20260102T110000
DTEND;TZID=America/Toronto:20260102T110000
DTSTAMP:20260423T124820
CREATED:20251230T142206Z
LAST-MODIFIED:20251230T142206Z
UID:46133-1767351600-1767351600@beachmetro.com
SUMMARY:Beach Interfaith Outreach Fellowship Lunch
DESCRIPTION:Lunch for adults in the community. Format may vary.
URL:https://beachmetro.com/event/beach-interfaith-outreach-fellowship-lunch-179/
LOCATION:Kingston Road United Church\, 975 Kingston Rd
END:VEVENT
BEGIN:VEVENT
DTSTART;TZID=America/Toronto:20260103T103000
DTEND;TZID=America/Toronto:20260103T123000
DTSTAMP:20260423T124820
CREATED:20251230T141849Z
LAST-MODIFIED:20251230T141849Z
UID:46129-1767436200-1767443400@beachmetro.com
SUMMARY:AA
DESCRIPTION:AA meets Saturdays at Centre 55. Info: 416-691-1113
URL:https://beachmetro.com/event/aa-29/
LOCATION:Centre 55\, 97 Main St.\, Toronto
END:VEVENT
BEGIN:VEVENT
DTSTART;TZID=America/Toronto:20260103T130000
DTEND;TZID=America/Toronto:20260103T160000
DTSTAMP:20260423T124820
CREATED:20251228T162930Z
LAST-MODIFIED:20251228T162930Z
UID:46097-1767445200-1767456000@beachmetro.com
SUMMARY:Chess Club
DESCRIPTION:Drop in every Saturday for a few friendly games of chess. All ages and levels. Children under 12 require supervision. No registration required. Info: 416-393-7717 
URL:https://beachmetro.com/event/chess-club-19/
LOCATION:Gerrard Ashdale Library\, 1432 Gerrard St. E.\, Toronto
END:VEVENT
BEGIN:VEVENT
DTSTART;TZID=America/Toronto:20260105T093000
DTEND;TZID=America/Toronto:20260105T113000
DTSTAMP:20260423T124820
CREATED:20251230T145035Z
LAST-MODIFIED:20251230T145035Z
UID:46141-1767605400-1767612600@beachmetro.com
SUMMARY:Wee Folks
DESCRIPTION:Interactive play and fun at our drop in event for young children and their caregivers. Info: www.fallingbrookpresbyterian.com or fboffice@rogers.com
URL:https://beachmetro.com/event/wee-folks-7/
LOCATION:Fallingbrook Presbyterian Church\, 35 Wood Glen Rd.\, Toronto
END:VEVENT
BEGIN:VEVENT
DTSTART;TZID=America/Toronto:20260105T110000
DTEND;TZID=America/Toronto:20260105T110000
DTSTAMP:20260423T124820
CREATED:20251228T162656Z
LAST-MODIFIED:20251228T162656Z
UID:46095-1767610800-1767610800@beachmetro.com
SUMMARY:Beach Interfaith Outreach Fellowship Lunch
DESCRIPTION:Lunch for adults in the community. Format may vary.
URL:https://beachmetro.com/event/beach-interfaith-outreach-fellowship-lunch-175/
LOCATION:Corpus Christi Church\, 16 Lockwood Rd
END:VEVENT
BEGIN:VEVENT
DTSTART;TZID=America/Toronto:20260105T113000
DTEND;TZID=America/Toronto:20260105T140000
DTSTAMP:20260423T124820
CREATED:20251229T163425Z
LAST-MODIFIED:20251229T163425Z
UID:46109-1767612600-1767621600@beachmetro.com
SUMMARY:Dorothy's Place: "Tech This Out" Lunch & Learn weekly lunch program for 2S-LGBTQIA+ adults (55+)
DESCRIPTION:“Tech This Out” Lunch & Learn Workshops – Jan. & Feb. \nSafe\, effective use of your tech devices \nJan. 5\, 2026 – Cybersecurity \n(Stay safe online – red flags\, privacy risks) \nJan. 19\, 2026 – Common Applications \n(Games\, puzzles\, brain teasers) \nFeb. 2\, 2026 – Common Applications #2 \n(Shopping\, rideshare\, food apps\, etc) \n  \nFeb. 23\, 2026 – Understanding & Using PDFs \nWhen: Mondays from 11:30 am to 2 pm \nWhere: 33 East Road \n(Warden & Kingston Rd)
URL:https://beachmetro.com/event/dorothys-place-tech-this-out-lunch-learn-weekly-lunch-program-for-2s-lgbtqia-adults-55/
LOCATION:33 East Road\, 33 East Road\, Toronto
ATTACH;FMTTYPE=image/jpeg:https://d28bcn7yu97icd.cloudfront.net/wp-content/uploads/2025/12/29113331/RCP-Dorothys-Place-ad-janfeb-Beach-Metro13.jpg
END:VEVENT
BEGIN:VEVENT
DTSTART;TZID=America/Toronto:20260106T110000
DTEND;TZID=America/Toronto:20260106T110000
DTSTAMP:20260423T124820
CREATED:20251230T141131Z
LAST-MODIFIED:20251230T141131Z
UID:46121-1767697200-1767697200@beachmetro.com
SUMMARY:Beach Interfaith Outreach Fellowship Lunch
DESCRIPTION:Lunch for adults in the community. Format may vary.
URL:https://beachmetro.com/event/beach-interfaith-outreach-fellowship-lunch-176/
LOCATION:St. Nicholas\, Birch Cliff\, 1512 Kingston Rd.\, Toronto
END:VEVENT
BEGIN:VEVENT
DTSTART;TZID=America/Toronto:20260106T190000
DTEND;TZID=America/Toronto:20260106T190000
DTSTAMP:20260423T124820
CREATED:20251230T141654Z
LAST-MODIFIED:20251230T141654Z
UID:46127-1767726000-1767726000@beachmetro.com
SUMMARY:Beaches Mental Wellness Group
DESCRIPTION:Beaches Mental Wellness Group meets each Tuesday. Info: www.mentalwellness.help. Or join us most nights of the week on Zoom. Go to: https://www.meetup.com. Ask to join us: Mental Wellness Peer-to-Peer Support-Groups
URL:https://beachmetro.com/event/beaches-mental-wellness-group-39/
LOCATION:Centre 55\, 97 Main St.\, Toronto
END:VEVENT
BEGIN:VEVENT
DTSTART;TZID=America/Toronto:20260106T190000
DTEND;TZID=America/Toronto:20260106T210000
DTSTAMP:20260423T124820
CREATED:20251228T163313Z
LAST-MODIFIED:20251228T163313Z
UID:46099-1767726000-1767733200@beachmetro.com
SUMMARY:Euchre
DESCRIPTION:Join us Tuesdays for a fun and friendly evening of progressive Euchre at the Church of St. Aidan (enter from the northeast side door). $5 to play\, all proceeds go to outreach. Beginners welcome.
URL:https://beachmetro.com/event/euchre-12/
LOCATION:St. Aidan’s Anglican Church\, 2423 Queen St. E.\, Toronto\, Canada
END:VEVENT
BEGIN:VEVENT
DTSTART;TZID=America/Toronto:20260107T110000
DTEND;TZID=America/Toronto:20260107T110000
DTSTAMP:20260423T124820
CREATED:20251230T141319Z
LAST-MODIFIED:20251230T141319Z
UID:46123-1767783600-1767783600@beachmetro.com
SUMMARY:Beach Interfaith Outreach Fellowship Lunch
DESCRIPTION:Lunch for adults in the community. Format may vary.
URL:https://beachmetro.com/event/beach-interfaith-outreach-fellowship-lunch-177/
LOCATION:Beach Hebrew Institute\, 109 Kenilworth Avenue
END:VEVENT
BEGIN:VEVENT
DTSTART;TZID=America/Toronto:20260107T191500
DTEND;TZID=America/Toronto:20260107T191500
DTSTAMP:20260423T124820
CREATED:20251230T142035Z
LAST-MODIFIED:20251230T142035Z
UID:46131-1767813300-1767813300@beachmetro.com
SUMMARY:Al-Anon
DESCRIPTION:Al-Anon meets Wednesdays at Centre 55. Alateen members are welcome to attend. Info: 416-691-1113
URL:https://beachmetro.com/event/al-anon-44/
LOCATION:Centre 55\, 97 Main St.\, Toronto
END:VEVENT
BEGIN:VEVENT
DTSTART;TZID=America/Toronto:20260108T100000
DTEND;TZID=America/Toronto:20260108T113000
DTSTAMP:20260423T124820
CREATED:20251230T144731Z
LAST-MODIFIED:20251230T144731Z
UID:46139-1767866400-1767871800@beachmetro.com
SUMMARY:Busy Bees Drop-in Playgroup
DESCRIPTION:Join us Thursdays for stories and crafts for ages 0-3 and caregivers.
URL:https://beachmetro.com/event/busy-bees-drop-in-playgroup-7/
LOCATION:St. Aidan’s Anglican Church\, 2423 Queen St. E.\, Toronto\, Canada
END:VEVENT
BEGIN:VEVENT
DTSTART;TZID=America/Toronto:20260108T110000
DTEND;TZID=America/Toronto:20260108T110000
DTSTAMP:20260423T124820
CREATED:20251230T141444Z
LAST-MODIFIED:20251230T141444Z
UID:46125-1767870000-1767870000@beachmetro.com
SUMMARY:Beach Interfaith Outreach Fellowship Lunch
DESCRIPTION:Lunch for adults in the community. Format may vary.
URL:https://beachmetro.com/event/beach-interfaith-outreach-fellowship-lunch-178/
LOCATION:Beach United Church\, 140 Wineva Ave.\, Toronto
END:VEVENT
BEGIN:VEVENT
DTSTART;TZID=America/Toronto:20260108T180000
DTEND;TZID=America/Toronto:20260108T203000
DTSTAMP:20260423T124820
CREATED:20251230T145454Z
LAST-MODIFIED:20251230T145454Z
UID:46145-1767895200-1767904200@beachmetro.com
SUMMARY:Calvary Grace Food Bank
DESCRIPTION:Calvary Grace Food Bank is open Thursdays by appointment only\, through Daily Bread Food Bank. Info: 416-691-2899\, gpcc@calvary-baptist-church.ca\, www.gracepascoefoodbank.ca/access-our-services
URL:https://beachmetro.com/event/calvary-grace-food-bank-17/
LOCATION:Calvary Baptist Church\, 72 Main St.\, Toronto
END:VEVENT
BEGIN:VEVENT
DTSTART;TZID=America/Toronto:20260108T190000
DTEND;TZID=America/Toronto:20260108T213000
DTSTAMP:20260423T124820
CREATED:20251214T151106Z
LAST-MODIFIED:20251214T151106Z
UID:45910-1767898800-1767907800@beachmetro.com
SUMMARY:Beach Photo Club
DESCRIPTION:Are you interested in photography? We invite all shutterbugs to check out our local photo club. We offer a range of activities including guest speakers\, mentorship\, opportunities to share your work\, photo excursions\, competitions\, practical seminars and more! Info: beachphotoclub.com or email beachphotoclub@gmail.com
URL:https://beachmetro.com/event/beach-photo-club-20/
LOCATION:Beach United Church\, 140 Wineva Ave.\, Toronto
END:VEVENT
BEGIN:VEVENT
DTSTART;TZID=America/Toronto:20260109T110000
DTEND;TZID=America/Toronto:20260109T110000
DTSTAMP:20260423T124820
CREATED:20251230T142343Z
LAST-MODIFIED:20251230T142343Z
UID:46135-1767956400-1767956400@beachmetro.com
SUMMARY:Beach Interfaith Outreach Fellowship Lunch
DESCRIPTION:Lunch for adults in the community. Format may vary.
URL:https://beachmetro.com/event/beach-interfaith-outreach-fellowship-lunch-180/
LOCATION:Kingston Road United Church\, 975 Kingston Rd
END:VEVENT
END:VCALENDAR