BEGIN:VCALENDAR
VERSION:2.0
PRODID:-//Beach Metro Community News - ECPv6.15.12.1//NONSGML v1.0//EN
CALSCALE:GREGORIAN
METHOD:PUBLISH
X-ORIGINAL-URL:https://beachmetro.com
X-WR-CALDESC:Events for Beach Metro Community News
REFRESH-INTERVAL;VALUE=DURATION:PT1H
X-Robots-Tag:noindex
X-PUBLISHED-TTL:PT1H
BEGIN:VTIMEZONE
TZID:America/Toronto
BEGIN:DAYLIGHT
TZOFFSETFROM:-0500
TZOFFSETTO:-0400
TZNAME:EDT
DTSTART:20250309T070000
END:DAYLIGHT
BEGIN:STANDARD
TZOFFSETFROM:-0400
TZOFFSETTO:-0500
TZNAME:EST
DTSTART:20251102T060000
END:STANDARD
BEGIN:DAYLIGHT
TZOFFSETFROM:-0500
TZOFFSETTO:-0400
TZNAME:EDT
DTSTART:20260308T070000
END:DAYLIGHT
BEGIN:STANDARD
TZOFFSETFROM:-0400
TZOFFSETTO:-0500
TZNAME:EST
DTSTART:20261101T060000
END:STANDARD
BEGIN:DAYLIGHT
TZOFFSETFROM:-0500
TZOFFSETTO:-0400
TZNAME:EDT
DTSTART:20270314T070000
END:DAYLIGHT
BEGIN:STANDARD
TZOFFSETFROM:-0400
TZOFFSETTO:-0500
TZNAME:EST
DTSTART:20271107T060000
END:STANDARD
END:VTIMEZONE
BEGIN:VEVENT
DTSTART;TZID=America/Toronto:20260523T100000
DTEND;TZID=America/Toronto:20260524T160000
DTSTAMP:20260425T095656
CREATED:20260421T000912Z
LAST-MODIFIED:20260422T142857Z
UID:49259-1779530400-1779638400@beachmetro.com
SUMMARY:Kew Beach Lawn Bowling Club Open House
DESCRIPTION:KBLBC is participating in Doors Open Toronto to show the city our lovely 125 year old club. Come try bowling/croquet for free.
URL:https://beachmetro.com/event/kew-beach-lawn-bowling-club-open-house-3/
LOCATION:Kew Beach Lawn Bowling Club\, 12 Lee Ave.\, Toronto\, Canada
ATTACH;FMTTYPE=image/jpeg:https://d28bcn7yu97icd.cloudfront.net/wp-content/uploads/2026/04/20200914/Bowls-Different-08.jpg
ORGANIZER;CN="Steve Ashby":MAILTO:kewbeachlbcinfo@gmail.com
END:VEVENT
BEGIN:VEVENT
DTSTART;TZID=America/Toronto:20260525T190000
DTEND;TZID=America/Toronto:20260525T210000
DTSTAMP:20260425T095656
CREATED:20260316T162932Z
LAST-MODIFIED:20260420T135427Z
UID:48117-1779735600-1779742800@beachmetro.com
SUMMARY:'All About Peonies' plus a Flower Show!
DESCRIPTION:Speaker: Dugald Cameron\, horticulturalist and teacher with vast knowledge about herbaceous perennials\, bulbs\, seeds\, vines and shrubs. Tonight focuses on peonies.
URL:https://beachmetro.com/event/all-about-peonies-plus-a-flower-show/
LOCATION:Stan Wadlow Clubhouse\, 373 Cedarvale Ave.\, Toronto\, M4C 4K7
ORGANIZER;CN="East York Garden Club":MAILTO:gardenclub@eygc.ca
END:VEVENT
BEGIN:VEVENT
DTSTART;TZID=America/Toronto:20260527T183000
DTEND;TZID=America/Toronto:20260527T193000
DTSTAMP:20260425T095656
CREATED:20260417T200334Z
LAST-MODIFIED:20260423T150540Z
UID:49190-1779906600-1779910200@beachmetro.com
SUMMARY:Birding 101: Tips for Bird Watching in Toronto
DESCRIPTION:Learn everything you need to know to start birding in Toronto! \nBirding is fun\, easy\, and can be done anywhere–in your own backyard or in a local park. Get tips on how to choose binoculars and field guides\, when and where to bird in your neighbourhood\, and how to identify the birds you are likely to find. Find out about clubs and field trips\, birding ethics\, and protection and conservation efforts. Presented by Monika Croydon\, a member of the Toronto Ornithological Club. \nThis program is for all ages\, including children. Drop-in\, no registration necessary.
URL:https://beachmetro.com/event/birding-101-tips-for-bird-watching-in-toronto/
LOCATION:Danforth/Coxwell Library\, 1675 Danforth Avenue\, Toronto\, M4C 4Y4
ORGANIZER;CN="Danforth Coxwell Branch%2C Toronto Public Library":MAILTO:dastaff@tpl.ca
END:VEVENT
END:VCALENDAR