BEGIN:VCALENDAR
VERSION:2.0
PRODID:-//Beach Metro Community News - ECPv6.15.12.1//NONSGML v1.0//EN
CALSCALE:GREGORIAN
METHOD:PUBLISH
X-ORIGINAL-URL:https://beachmetro.com
X-WR-CALDESC:Events for Beach Metro Community News
REFRESH-INTERVAL;VALUE=DURATION:PT1H
X-Robots-Tag:noindex
X-PUBLISHED-TTL:PT1H
BEGIN:VTIMEZONE
TZID:America/Toronto
BEGIN:DAYLIGHT
TZOFFSETFROM:-0500
TZOFFSETTO:-0400
TZNAME:EDT
DTSTART:20250309T070000
END:DAYLIGHT
BEGIN:STANDARD
TZOFFSETFROM:-0400
TZOFFSETTO:-0500
TZNAME:EST
DTSTART:20251102T060000
END:STANDARD
BEGIN:DAYLIGHT
TZOFFSETFROM:-0500
TZOFFSETTO:-0400
TZNAME:EDT
DTSTART:20260308T070000
END:DAYLIGHT
BEGIN:STANDARD
TZOFFSETFROM:-0400
TZOFFSETTO:-0500
TZNAME:EST
DTSTART:20261101T060000
END:STANDARD
BEGIN:DAYLIGHT
TZOFFSETFROM:-0500
TZOFFSETTO:-0400
TZNAME:EDT
DTSTART:20270314T070000
END:DAYLIGHT
BEGIN:STANDARD
TZOFFSETFROM:-0400
TZOFFSETTO:-0500
TZNAME:EST
DTSTART:20271107T060000
END:STANDARD
END:VTIMEZONE
BEGIN:VEVENT
DTSTART;TZID=America/Toronto:20260521T070000
DTEND;TZID=America/Toronto:20260521T220000
DTSTAMP:20260423T070746
CREATED:20260401T182415Z
LAST-MODIFIED:20260407T190032Z
UID:48646-1779346800-1779400800@beachmetro.com
SUMMARY:Good Laughs Comedy Show
DESCRIPTION:Good Laughs is back this year at Danforth Comedy Bar with another stellar line-up\, including Chris Blom\, Michael Currie\, Alan Kenigsberg\, Christine Kilby\, Joshua Lerner\, and Joshua Ng. We’re thrilled to have Martha Chaves as our Emcee for the evening. Martha is an award winning stand-up comedian\, actor and comedy writer\, often heard on CBC Radio’s The Debaters and Laugh Out Loud. Daryl Jung from Now Magazine called her “Witty\, sassy\, provocative\, and very funny.” We invite you to join us for an evening of laughs for a good cause\, in support of Michael Garron Hospital. Purchase tickets at www.goodlaughs.ca for either the 7 PM or the 9 PM show.
URL:https://beachmetro.com/event/good-laughs-comedy-show/
LOCATION:Comedy Bar Danforth\, 2800 Danforth\, Toronto\, M4C1M1
ATTACH;FMTTYPE=image/jpeg:https://d28bcn7yu97icd.cloudfront.net/wp-content/uploads/2026/04/01142418/GoodLaughs.ca_.jpg
END:VEVENT
END:VCALENDAR