BEGIN:VCALENDAR
VERSION:2.0
PRODID:-//Beach Metro Community News - ECPv6.15.12.1//NONSGML v1.0//EN
CALSCALE:GREGORIAN
METHOD:PUBLISH
X-ORIGINAL-URL:https://beachmetro.com
X-WR-CALDESC:Events for Beach Metro Community News
REFRESH-INTERVAL;VALUE=DURATION:PT1H
X-Robots-Tag:noindex
X-PUBLISHED-TTL:PT1H
BEGIN:VTIMEZONE
TZID:America/Toronto
BEGIN:DAYLIGHT
TZOFFSETFROM:-0500
TZOFFSETTO:-0400
TZNAME:EDT
DTSTART:20250309T070000
END:DAYLIGHT
BEGIN:STANDARD
TZOFFSETFROM:-0400
TZOFFSETTO:-0500
TZNAME:EST
DTSTART:20251102T060000
END:STANDARD
BEGIN:DAYLIGHT
TZOFFSETFROM:-0500
TZOFFSETTO:-0400
TZNAME:EDT
DTSTART:20260308T070000
END:DAYLIGHT
BEGIN:STANDARD
TZOFFSETFROM:-0400
TZOFFSETTO:-0500
TZNAME:EST
DTSTART:20261101T060000
END:STANDARD
BEGIN:DAYLIGHT
TZOFFSETFROM:-0500
TZOFFSETTO:-0400
TZNAME:EDT
DTSTART:20270314T070000
END:DAYLIGHT
BEGIN:STANDARD
TZOFFSETFROM:-0400
TZOFFSETTO:-0500
TZNAME:EST
DTSTART:20271107T060000
END:STANDARD
END:VTIMEZONE
BEGIN:VEVENT
DTSTART;TZID=America/Toronto:20260507T140000
DTEND;TZID=America/Toronto:20260508T193000
DTSTAMP:20260419T143733
CREATED:20260320T174250Z
LAST-MODIFIED:20260407T211346Z
UID:48359-1778162400-1778268600@beachmetro.com
SUMMARY:Serenata Singers - 50th Golden Anniversary Concerts
DESCRIPTION:Celebrate 50 years of harmony with “The Maple Leaf Forever”\, a sparkling program of choral gems by Canadian composers.
URL:https://beachmetro.com/event/serenata-singers-50th-golden-anniversary-concerts/
LOCATION:Scarborough Bluffs United Church\, 3739 Kingston Rd.\, Toronto
ORGANIZER;CN="Charlotte Judd":MAILTO:Charlotte.judd55@gmail.com
END:VEVENT
BEGIN:VEVENT
DTSTART;TZID=America/Toronto:20260507T190000
DTEND;TZID=America/Toronto:20260507T213000
DTSTAMP:20260419T143733
CREATED:20260417T152126Z
LAST-MODIFIED:20260417T152126Z
UID:49164-1778180400-1778189400@beachmetro.com
SUMMARY:Beach Photo Club
DESCRIPTION:Are you interested in photography? We invite all shutterbugs to check out our local photo club. We offer a range of activities including guest speakers\, mentorship\, opportunities to share your work\, photo excursions\, competitions\, practical seminars and more! We meet the 1st and 3rd Thursday of each month from September to June. Info: beachphotoclub.com or email beachphotoclub@gmail.com
URL:https://beachmetro.com/event/beach-photo-club-27/
LOCATION:Beach United Church\, 140 Wineva Ave.\, Toronto
END:VEVENT
END:VCALENDAR