BEGIN:VCALENDAR
VERSION:2.0
PRODID:-//Beach Metro Community News - ECPv6.15.12.1//NONSGML v1.0//EN
CALSCALE:GREGORIAN
METHOD:PUBLISH
X-WR-CALNAME:Beach Metro Community News
X-ORIGINAL-URL:https://beachmetro.com
X-WR-CALDESC:Events for Beach Metro Community News
REFRESH-INTERVAL;VALUE=DURATION:PT1H
X-Robots-Tag:noindex
X-PUBLISHED-TTL:PT1H
BEGIN:VTIMEZONE
TZID:America/Toronto
BEGIN:DAYLIGHT
TZOFFSETFROM:-0500
TZOFFSETTO:-0400
TZNAME:EDT
DTSTART:20250309T070000
END:DAYLIGHT
BEGIN:STANDARD
TZOFFSETFROM:-0400
TZOFFSETTO:-0500
TZNAME:EST
DTSTART:20251102T060000
END:STANDARD
BEGIN:DAYLIGHT
TZOFFSETFROM:-0500
TZOFFSETTO:-0400
TZNAME:EDT
DTSTART:20260308T070000
END:DAYLIGHT
BEGIN:STANDARD
TZOFFSETFROM:-0400
TZOFFSETTO:-0500
TZNAME:EST
DTSTART:20261101T060000
END:STANDARD
BEGIN:DAYLIGHT
TZOFFSETFROM:-0500
TZOFFSETTO:-0400
TZNAME:EDT
DTSTART:20270314T070000
END:DAYLIGHT
BEGIN:STANDARD
TZOFFSETFROM:-0400
TZOFFSETTO:-0500
TZNAME:EST
DTSTART:20271107T060000
END:STANDARD
END:VTIMEZONE
BEGIN:VEVENT
DTSTART;TZID=America/Toronto:20260320T080000
DTEND;TZID=America/Toronto:20260407T170000
DTSTAMP:20260422T071212
CREATED:20260320T191340Z
LAST-MODIFIED:20260407T144549Z
UID:48373-1773993600-1775581200@beachmetro.com
SUMMARY:TreeMobile food plant sale for spring delivery
DESCRIPTION:Our online store is now open to help fulfill your foodscaping dreams. We carry everything from apple trees to asparagus! TreeMobile is a not-for-profit volunteer run community project.
URL:https://beachmetro.com/event/treemobile-food-plant-sale-for-spring-delivery/
ATTACH;FMTTYPE=image/png:https://d28bcn7yu97icd.cloudfront.net/wp-content/uploads/2026/03/20151350/cherry-boy-no-date-scaled.png
ORGANIZER;CN="TreeMobile":MAILTO:treemobiletoronto@gmail.com
END:VEVENT
BEGIN:VEVENT
DTSTART;TZID=America/Toronto:20260329T080000
DTEND;TZID=America/Toronto:20260403T080000
DTSTAMP:20260422T071212
CREATED:20260324T184927Z
LAST-MODIFIED:20260324T185043Z
UID:48440-1774771200-1775203200@beachmetro.com
SUMMARY:Breakfast with the Easter Bunny
DESCRIPTION:Enjoy a pancake breakfast\, crafts\, and Easter Egg Hunt\, and a visit from the Easter Bunny. First sitting at 8 a.m.\, second sitting at 9 a.m. Minimum donation of $5 is suggested. All funds raised go to Centre 55 programs in and for the community. Please register is advance at https://centrefiftyfive.recdesk.com/community/home
URL:https://beachmetro.com/event/breakfast-with-the-easter-bunny-and-egg-hunt/
LOCATION:Centre 55\, 97 Main St.\, Toronto
END:VEVENT
BEGIN:VEVENT
DTSTART;TZID=America/Toronto:20260401T190000
DTEND;TZID=America/Toronto:20260408T210000
DTSTAMP:20260422T071212
CREATED:20260325T164432Z
LAST-MODIFIED:20260325T174444Z
UID:48485-1775070000-1775682000@beachmetro.com
SUMMARY:Registration for Spring Sprint
DESCRIPTION:Registration for the annual 2km and 5km walk run hosted by the Beaches Recreation Centre Advisory Council. Registration dates are April 1\, 2\, 7\, 8; 7-9 pm at Beaches Recreation Centre. $30 cash or cheque only.
URL:https://beachmetro.com/event/registration-for-spring-sprint/
LOCATION:Beaches Recreation Centre\, 6 Williamson Rd.\, Toronto
END:VEVENT
BEGIN:VEVENT
DTSTART;TZID=America/Toronto:20260403T100000
DTEND;TZID=America/Toronto:20260403T120000
DTSTAMP:20260422T071212
CREATED:20260317T020458Z
LAST-MODIFIED:20260318T133931Z
UID:48137-1775210400-1775217600@beachmetro.com
SUMMARY:Walking Soccer -- Free Demo Day
DESCRIPTION:Try the sport that is sweeping the UK and Europe – Walking Soccer.\nOur 140 players’ range in age from 41 to 86. All skill levels welcome. Your FREE TICKET is available at https://www.zeffy.com/en-CA/ticketing/demo-day. For more about our club\, please visit https://torontowalkingsoccer.com.
URL:https://beachmetro.com/event/walking-soccer-free-demo-day/
LOCATION:JAM Sportsplex\, 176 Cherry Street\, Toronto\, M5A 2L2
END:VEVENT
BEGIN:VEVENT
DTSTART;TZID=America/Toronto:20260403T103000
DTEND;TZID=America/Toronto:20260403T113000
DTSTAMP:20260422T071212
CREATED:20260301T234156Z
LAST-MODIFIED:20260311T135715Z
UID:47689-1775212200-1775215800@beachmetro.com
SUMMARY:Good Friday Special Music
DESCRIPTION:Andrew Lloyd Webber Pie Jesu\nMary Komech\, Elise Catibog\, sopranos\nSt. Paul’s United Church\,\n200 McIntosh Street
URL:https://beachmetro.com/event/good-friday-special-music/
LOCATION:St. Paul’s United Church\, 200 McIntosh St.\, Canada
ATTACH;FMTTYPE=image/jpeg:https://d28bcn7yu97icd.cloudfront.net/wp-content/uploads/2026/03/01184158/St.-Pauls-2026-EasterLent-Ad-Copy1.jpg
END:VEVENT
BEGIN:VEVENT
DTSTART;TZID=America/Toronto:20260403T110000
DTEND;TZID=America/Toronto:20260403T110000
DTSTAMP:20260422T071212
CREATED:20260325T004850Z
LAST-MODIFIED:20260325T004850Z
UID:48460-1775214000-1775214000@beachmetro.com
SUMMARY:Beach Interfaith Outreach Fellowship Lunch
DESCRIPTION:Lunch for adults in the community. Format may vary.
URL:https://beachmetro.com/event/beach-interfaith-outreach-fellowship-lunch-234/
LOCATION:Kingston Road United Church\, 975 Kingston Rd
END:VEVENT
END:VCALENDAR