BEGIN:VCALENDAR
VERSION:2.0
PRODID:-//Beach Metro Community News - ECPv6.15.12.1//NONSGML v1.0//EN
CALSCALE:GREGORIAN
METHOD:PUBLISH
X-WR-CALNAME:Beach Metro Community News
X-ORIGINAL-URL:https://beachmetro.com
X-WR-CALDESC:Events for Beach Metro Community News
REFRESH-INTERVAL;VALUE=DURATION:PT1H
X-Robots-Tag:noindex
X-PUBLISHED-TTL:PT1H
BEGIN:VTIMEZONE
TZID:America/Toronto
BEGIN:DAYLIGHT
TZOFFSETFROM:-0500
TZOFFSETTO:-0400
TZNAME:EDT
DTSTART:20250309T070000
END:DAYLIGHT
BEGIN:STANDARD
TZOFFSETFROM:-0400
TZOFFSETTO:-0500
TZNAME:EST
DTSTART:20251102T060000
END:STANDARD
BEGIN:DAYLIGHT
TZOFFSETFROM:-0500
TZOFFSETTO:-0400
TZNAME:EDT
DTSTART:20260308T070000
END:DAYLIGHT
BEGIN:STANDARD
TZOFFSETFROM:-0400
TZOFFSETTO:-0500
TZNAME:EST
DTSTART:20261101T060000
END:STANDARD
BEGIN:DAYLIGHT
TZOFFSETFROM:-0500
TZOFFSETTO:-0400
TZNAME:EDT
DTSTART:20270314T070000
END:DAYLIGHT
BEGIN:STANDARD
TZOFFSETFROM:-0400
TZOFFSETTO:-0500
TZNAME:EST
DTSTART:20271107T060000
END:STANDARD
END:VTIMEZONE
BEGIN:VEVENT
DTSTART;VALUE=DATE:20260216
DTEND;VALUE=DATE:20260331
DTSTAMP:20260421T094148
CREATED:20260205T215626Z
LAST-MODIFIED:20260205T215718Z
UID:47060-1771200000-1774915199@beachmetro.com
SUMMARY:Winter Stations
DESCRIPTION:The 2026 theme is ‘Mirage’. Winter Stations will open on Family Day weekend\, with the official launch on Monday\, Feb. 16\, and continue until the end of March.
URL:https://beachmetro.com/event/winter-stations/
LOCATION:Woodbine Beach\, 1675 Lakeshore Blvd E\, Toronto\, M4L 3W6
END:VEVENT
BEGIN:VEVENT
DTSTART;TZID=America/Toronto:20260320T080000
DTEND;TZID=America/Toronto:20260407T170000
DTSTAMP:20260421T094148
CREATED:20260320T191340Z
LAST-MODIFIED:20260407T144549Z
UID:48373-1773993600-1775581200@beachmetro.com
SUMMARY:TreeMobile food plant sale for spring delivery
DESCRIPTION:Our online store is now open to help fulfill your foodscaping dreams. We carry everything from apple trees to asparagus! TreeMobile is a not-for-profit volunteer run community project.
URL:https://beachmetro.com/event/treemobile-food-plant-sale-for-spring-delivery/
ATTACH;FMTTYPE=image/png:https://d28bcn7yu97icd.cloudfront.net/wp-content/uploads/2026/03/20151350/cherry-boy-no-date-scaled.png
ORGANIZER;CN="TreeMobile":MAILTO:treemobiletoronto@gmail.com
END:VEVENT
BEGIN:VEVENT
DTSTART;TZID=America/Toronto:20260328T103000
DTEND;TZID=America/Toronto:20260328T123000
DTSTAMP:20260421T094148
CREATED:20260325T010111Z
LAST-MODIFIED:20260325T010111Z
UID:48467-1774693800-1774701000@beachmetro.com
SUMMARY:AA
DESCRIPTION:AA at Community Centre 55\, 97 Main St.\, Saturdays 10:30 a.m.-12:30 p.m. Info: 416-691-1113
URL:https://beachmetro.com/event/aa-39/
LOCATION:Centre 55\, 97 Main St.\, Toronto
END:VEVENT
BEGIN:VEVENT
DTSTART;TZID=America/Toronto:20260328T110000
DTEND;TZID=America/Toronto:20260328T110000
DTSTAMP:20260421T094148
CREATED:20260304T152916Z
LAST-MODIFIED:20260304T162842Z
UID:47793-1774695600-1774695600@beachmetro.com
SUMMARY:St. John's Interactive Community Players Easter Play
DESCRIPTION:Good for the whole family. Refreshments during the play. Lunch after the play. Donation accepted for our homeless programs.
URL:https://beachmetro.com/event/st-johns-interactive-community-players-easter-play/
LOCATION:St. John The Compassionate Mission\, 155 Broadview Ave.\, Toronto
END:VEVENT
BEGIN:VEVENT
DTSTART;TZID=America/Toronto:20260328T130000
DTEND;TZID=America/Toronto:20260328T160000
DTSTAMP:20260421T094148
CREATED:20260319T182024Z
LAST-MODIFIED:20260319T182024Z
UID:48329-1774702800-1774713600@beachmetro.com
SUMMARY:Chess Club
DESCRIPTION:Drop in for a couple games of chess. All levels welcome. 
URL:https://beachmetro.com/event/chess-club-24/
LOCATION:Gerrard Ashdale Library\, 1432 Gerrard St. E.\, Toronto
END:VEVENT
BEGIN:VEVENT
DTSTART;TZID=America/Toronto:20260328T140000
DTEND;TZID=America/Toronto:20260328T223000
DTSTAMP:20260421T094148
CREATED:20260323T145715Z
LAST-MODIFIED:20260323T173147Z
UID:48402-1774706400-1774737000@beachmetro.com
SUMMARY:Double Toronto Contra Dance
DESCRIPTION:Wondering whether you should join us for the advanced dance? At this dance\, it is assumed that you are comfortable with all the common moves and can dance them on the fly (even if called without the caller walking the dance through beforehand). A hey should feel fun (not scary or disorienting) and it should be rare that anyone would need to help you get reoriented during a dance. If that sounds like you\, please come!\nIf you’re thinking of bringing a beginner that day\, we’d love to see them at the evening dance. Make sure they attend the intro to contra lesson at 7pm so that they have the most fun possible during the dance (and get free entry to the next regular evening dance).\n✨ On stage:\nCaller Jennie Worden guiding the dances\, with Tom Santarsiero\, Alex Fortier\, Cat Sloboda – setting the groove and keeping the floor in motion all day long.\n🕖 Evening timeline:\nAfternoon – Advanced dance (2pm to 5pm)\nEvening – Regular dance (Intro lesson 7pm\, dance 7:30 to 10:30pm)\n😷 Mask-Mandatory\n💧 Bring a refillable water bottle\n🥟 Samosas will be ready (arrive early if you want one!)\nAfternoon & Evening dances are priced separately.\nSliding scale: $7–$35 (kids 16 & under free)\nIt costs about $22 per dancer to make these nights happen—your support\, generosity\, and word-of-mouth keep the community strong.\n🌐 www.tcdance.org\nWhether it’s your first dance or your fiftieth\, we’d love to see you there
URL:https://beachmetro.com/event/double-toronto-contra-dance/
LOCATION:St Barnabas on the Danforth Anglican Church\, 361 Danforth Ave.\, Toronto\, M4K 1P1
ATTACH;FMTTYPE=image/jpeg:https://d28bcn7yu97icd.cloudfront.net/wp-content/uploads/2026/03/23105719/Contra-Dance-crop1.jpg
ORGANIZER;CN="Toronto Contra Dance":MAILTO:president@tcdance.org
END:VEVENT
BEGIN:VEVENT
DTSTART;TZID=America/Toronto:20260328T160000
DTEND;TZID=America/Toronto:20260328T173000
DTSTAMP:20260421T094148
CREATED:20260318T211706Z
LAST-MODIFIED:20260319T132728Z
UID:48274-1774713600-1774719000@beachmetro.com
SUMMARY:Toronto Beaches Children's Concert
DESCRIPTION:Come and enjoy excellent music from one of Toronto’s foremost cildren & youth choirs. All proceeds go to the support of ‘Penny’s Promise’ a charity set up to help one of the choir members\, as well as other children who suffer from a rare form of Muscular Dystrophy. Learn more at www.penny’spromise.com
URL:https://beachmetro.com/event/toronto-beaches-childrens-concert/
LOCATION:Kingston Road United Church\, 975 Kingston Rd
ATTACH;FMTTYPE=image/jpeg:https://d28bcn7yu97icd.cloudfront.net/wp-content/uploads/2026/03/18171710/Image4.jpg
ORGANIZER;CN="Toronto Beaches Children &amp%3B Youth Chorus":MAILTO:info@tbcyc.com
END:VEVENT
BEGIN:VEVENT
DTSTART;TZID=America/Toronto:20260328T163000
DTEND;TZID=America/Toronto:20260328T163000
DTSTAMP:20260421T094148
CREATED:20260227T143906Z
LAST-MODIFIED:20260227T143906Z
UID:47653-1774715400-1774715400@beachmetro.com
SUMMARY:Bundle Up
DESCRIPTION:Collecting donations of clothing\, towels\, drapery\, sheets\, blankets\, footwear\, and new toys. Saturday\, March 28\, before and after the 5 p.m. Mass\, and Sunday\, March 29\, before and after the 10 a.m. and 12 noon Masses. Info: ssvpdunstans@hotmail.com
URL:https://beachmetro.com/event/bundle-up-5/
LOCATION:St. Dunstan’s Catholic Church\, 3150 Danforth Ave.\, Toronto
END:VEVENT
BEGIN:VEVENT
DTSTART;TZID=America/Toronto:20260328T200000
DTEND;TZID=America/Toronto:20260328T200000
DTSTAMP:20260421T094148
CREATED:20260306T150135Z
LAST-MODIFIED:20260311T140903Z
UID:47870-1774728000-1774728000@beachmetro.com
SUMMARY:Acoustic Harvest
DESCRIPTION:Acoustic Harvest presents The Slocan Ramblers with opening set Alex Sinclair. Get ready for high-octane bluegrass at its best with The Slocan Ramblers! This Juno-nominated band brings blazing instrumentals\, tight harmonies\, and a whole lot of heart. Ticket $35 advance\, $40 at door. Tickets and info: acousticharvest.ca
URL:https://beachmetro.com/event/acoustic-harvest-4/
LOCATION:St. Paul’s United Church\, 200 McIntosh St.\, Canada
END:VEVENT
END:VCALENDAR