BEGIN:VCALENDAR
VERSION:2.0
PRODID:-//Beach Metro Community News - ECPv6.15.12.1//NONSGML v1.0//EN
CALSCALE:GREGORIAN
METHOD:PUBLISH
X-WR-CALNAME:Beach Metro Community News
X-ORIGINAL-URL:https://beachmetro.com
X-WR-CALDESC:Events for Beach Metro Community News
REFRESH-INTERVAL;VALUE=DURATION:PT1H
X-Robots-Tag:noindex
X-PUBLISHED-TTL:PT1H
BEGIN:VTIMEZONE
TZID:America/Toronto
BEGIN:DAYLIGHT
TZOFFSETFROM:-0500
TZOFFSETTO:-0400
TZNAME:EDT
DTSTART:20240310T070000
END:DAYLIGHT
BEGIN:STANDARD
TZOFFSETFROM:-0400
TZOFFSETTO:-0500
TZNAME:EST
DTSTART:20241103T060000
END:STANDARD
BEGIN:DAYLIGHT
TZOFFSETFROM:-0500
TZOFFSETTO:-0400
TZNAME:EDT
DTSTART:20250309T070000
END:DAYLIGHT
BEGIN:STANDARD
TZOFFSETFROM:-0400
TZOFFSETTO:-0500
TZNAME:EST
DTSTART:20251102T060000
END:STANDARD
BEGIN:DAYLIGHT
TZOFFSETFROM:-0500
TZOFFSETTO:-0400
TZNAME:EDT
DTSTART:20260308T070000
END:DAYLIGHT
BEGIN:STANDARD
TZOFFSETFROM:-0400
TZOFFSETTO:-0500
TZNAME:EST
DTSTART:20261101T060000
END:STANDARD
END:VTIMEZONE
BEGIN:VEVENT
DTSTART;TZID=America/Toronto:20250718T143000
DTEND;TZID=America/Toronto:20250726T193000
DTSTAMP:20260419T104638
CREATED:20250522T214604Z
LAST-MODIFIED:20250523T200033Z
UID:40675-1752849000-1753558200@beachmetro.com
SUMMARY:Rapunzel: the Family Friendly Pantomime
DESCRIPTION:Join us for Scarborough Musical Theatre’s first summer Pantomime! The classic tale of the maiden with the long hair and her wicked guardian who imprisons her in a tower. Our heroine will face danger\, adventure\, and will need the help of good friends and a handsome prince (or does she?)\nJuly 18\, 19\, 25\, 26\, 2025 at 7:30pm\nJuly 18\, 19\, 20\, 25\, 26\, 2025 at 2:00pm\nScarborough Village Theatre\, 3600 Kingston Road\nFor tickets and more info visit https://smt-theatre.com/rapunzel-a-pantomime
URL:https://beachmetro.com/event/rapunzel-the-family-friendly-pantomime/
LOCATION:Scarborough Village Theatre\, 3600 Kingston Rd.
ATTACH;FMTTYPE=image/jpeg:https://d28bcn7yu97icd.cloudfront.net/wp-content/uploads/2025/05/22174606/Rapunzel-1.jpg
ORGANIZER;CN="Scarborough Music Theatre":MAILTO:boxoffice@theatrescarborough.com
END:VEVENT
BEGIN:VEVENT
DTSTART;TZID=America/Toronto:20250719T103000
DTEND;TZID=America/Toronto:20250719T123000
DTSTAMP:20260419T104638
CREATED:20250714T143208Z
LAST-MODIFIED:20250714T143208Z
UID:41957-1752921000-1752928200@beachmetro.com
SUMMARY:A A
DESCRIPTION:A A at Community Centre 55\, 97 Main St.\, Saturdays 10:30 a.m.-12:30 p.m. Info: 416-691-1113
URL:https://beachmetro.com/event/a-a-9/
LOCATION:Community Centre 55\, 97 Main St.\, Toronto
END:VEVENT
BEGIN:VEVENT
DTSTART;TZID=America/Toronto:20250719T120000
DTEND;TZID=America/Toronto:20250720T230000
DTSTAMP:20260419T104638
CREATED:20250610T201019Z
LAST-MODIFIED:20250610T201119Z
UID:41218-1752926400-1753052400@beachmetro.com
SUMMARY:Festival of South Asia 2025
DESCRIPTION:Festival of South Asia 2025 at Gerrard India Bazaar\, Gerrard St. E. (between Coxwell and Glenside)\, July 19 & 20 from 12 noon-11 p.m. Multidisciplinary arts\, cultural performances & live music\, diverse South Asian cuisines and street food\, visual arts\, interactive workshops & roaming performers\, cultural market\, local vendors and family-friendly activities. Info: www.festivalofsouthasia.ca
URL:https://beachmetro.com/event/festival-of-south-asia-2025/
LOCATION:Gerrard India Bazaar
END:VEVENT
BEGIN:VEVENT
DTSTART;TZID=America/Toronto:20250719T130000
DTEND;TZID=America/Toronto:20250719T160000
DTSTAMP:20260419T104638
CREATED:20250714T143936Z
LAST-MODIFIED:20250714T143936Z
UID:41963-1752930000-1752940800@beachmetro.com
SUMMARY:Chess Club
DESCRIPTION:Drop in for a game of chess in a welcoming environment. All ages\, but children must be accompanied by an adult. Info: 416-393-7717
URL:https://beachmetro.com/event/chess-club-9/
LOCATION:Gerrard Ashdale Library\, 1432 Gerrard St. E.\, Toronto
END:VEVENT
BEGIN:VEVENT
DTSTART;TZID=America/Toronto:20250719T150000
DTEND;TZID=America/Toronto:20250719T220000
DTSTAMP:20260419T104638
CREATED:20250605T192732Z
LAST-MODIFIED:20250626T134546Z
UID:41074-1752937200-1752962400@beachmetro.com
SUMMARY:Beaches Jazz Festival - TD Weekend at Woodbine Park
DESCRIPTION:Day two of Weekend at Woodbine Park’s lineup includes Quincy Bullen (3pm)\, The Honeyrunners (4:30pm)\, The Bomb (6pm)\, and Beatlemania (8pm).
URL:https://beachmetro.com/event/beaches-jazz-festival-td-weekend-at-woodbine-park-2/
LOCATION:Woodbine Park\, 1695 Queen Street East
ATTACH;FMTTYPE=image/jpeg:https://d28bcn7yu97icd.cloudfront.net/wp-content/uploads/2025/06/05162512/TDWeekend19-scaled.jpg
END:VEVENT
END:VCALENDAR